BEGIN:VCALENDAR
VERSION:2.0
PRODID:Leipziger Foren Webapp
BEGIN:VTIMEZONE
TZID:UTC
BEGIN:STANDARD
DTSTART:20250724T153029
TZOFFSETFROM:+0000
TZOFFSETTO:+0000
END:STANDARD
END:VTIMEZONE
BEGIN:VEVENT
UID:69e6469579c82
DTSTAMP:20260420T153029Z
SUMMARY:User Group \"Maklerbetreuung\" - 17. Arbeitstreffen
DESCRIPTION:Gestalten Sie durch regelmäßigen Erfahrungsaustausch mit Bran
 chenexperten und Best Practices proaktiv die Zukunft der Maklerbetreuung.\
 n\nhttps://www.versicherungsforen.net/veranstaltungen/17-arbeitstreffen-us
 er-group-maklerbetreuung
LOCATION:LF Gruppe | Hainstraße 16 | Leipzig
DTSTART:20261116T110000Z
DTEND:20261117T150000Z
END:VEVENT
END:VCALENDAR