BEGIN:VCALENDAR
VERSION:2.0
PRODID:Leipziger Foren Webapp
BEGIN:VTIMEZONE
TZID:UTC
BEGIN:STANDARD
DTSTART:20200306T080000
TZOFFSETFROM:+0000
TZOFFSETTO:+0000
END:STANDARD
END:VTIMEZONE
BEGIN:VEVENT
UID:69e73aa589ec5
DTSTAMP:20260421T085149Z
SUMMARY:User Group \"Marktforschung in der Versicherungswirtschaft\" - 17. 
 Arbeitstreffen
DESCRIPTION:Dem Kunden in den Kopf geschaut und keine Trends verpassen: Erf
 olgreiche Marktforschung in Versicherungsunternehmen.\n\nhttps://www.versi
 cherungsforen.net/veranstaltungen/17-arbeitstreffen-user-group-marktforsch
 ung
LOCATION:virtuell
DTSTART:20201201T080000Z
DTEND:20201202T080000Z
END:VEVENT
END:VCALENDAR