BEGIN:VCALENDAR
VERSION:2.0
PRODID:Leipziger Foren Webapp
BEGIN:VTIMEZONE
TZID:UTC
BEGIN:STANDARD
DTSTART:20250728T041817
TZOFFSETFROM:+0000
TZOFFSETTO:+0000
END:STANDARD
END:VTIMEZONE
BEGIN:VEVENT
UID:69eaef0978ba8
DTSTAMP:20260424T041817Z
SUMMARY:Embedded Insurance
DESCRIPTION:Vertriebs- oder Geschäftsmodell?\n\nhttps://www.versicherungsf
 oren.net/veranstaltungen/fokustag-embedded-insurance-2027
LOCATION:LF Gruppe | Hainstraße 16 | Leipzig
DTSTART:20270415T120000Z
DTEND:20270416T123000Z
END:VEVENT
END:VCALENDAR