BEGIN:VCALENDAR
VERSION:2.0
PRODID:Leipziger Foren Webapp
BEGIN:VTIMEZONE
TZID:UTC
BEGIN:STANDARD
DTSTART:20250724T171010
TZOFFSETFROM:+0000
TZOFFSETTO:+0000
END:STANDARD
END:VTIMEZONE
BEGIN:VEVENT
UID:69e65df289838
DTSTAMP:20260420T171010Z
SUMMARY:Lernreise Future Leadership
DESCRIPTION:Veränderung begleiten und Eigenverantwortung stärken\n\nhttps
 ://www.versicherungsforen.net/veranstaltungen/lernreise-future-leadership-
 2026
LOCATION:virtuell || MS Teams
DTSTART:20260922T090500Z
DTEND:20261215T110000Z
GEO:0.032594202190953;0.021555643096431
END:VEVENT
END:VCALENDAR