BEGIN:VCALENDAR
VERSION:2.0
PRODID:Leipziger Foren Webapp
BEGIN:VTIMEZONE
TZID:UTC
BEGIN:STANDARD
DTSTART:20250530T110000
TZOFFSETFROM:+0000
TZOFFSETTO:+0000
END:STANDARD
END:VTIMEZONE
BEGIN:VEVENT
UID:69eb79f7a5571
DTSTAMP:20260424T141103Z
SUMMARY:Vom Kopfmonopol zur KI-Plattform: Der Weg zu einem modernen Wissens
 management in der Assekuranz 
DESCRIPTION:Präsentation und Diskussion der neuen Branchenstudie von msg u
 nd den Versicherungsforen Leipzig\n\nhttps://www.versicherungsforen.net/ve
 ranstaltungen/online-kurs-ki-wissensmanagement
LOCATION:virtuell
DTSTART:20260624T090000Z
DTEND:20260224T110000Z
GEO:0.021130442140332;-0.0095272064208984
END:VEVENT
END:VCALENDAR